BEGIN:VCALENDAR
VERSION:2.0
PRODID:-//ACGL - Association des conseils en gestion linguistique - ECPv6.15.20//NONSGML v1.0//EN
CALSCALE:GREGORIAN
METHOD:PUBLISH
X-WR-CALNAME:ACGL - Association des conseils en gestion linguistique
X-ORIGINAL-URL:https://lacgl.org
X-WR-CALDESC:Évènements pour ACGL - Association des conseils en gestion linguistique
REFRESH-INTERVAL;VALUE=DURATION:PT1H
X-Robots-Tag:noindex
X-PUBLISHED-TTL:PT1H
BEGIN:VTIMEZONE
TZID:America/Toronto
BEGIN:DAYLIGHT
TZOFFSETFROM:-0500
TZOFFSETTO:-0400
TZNAME:EDT
DTSTART:20230312T070000
END:DAYLIGHT
BEGIN:STANDARD
TZOFFSETFROM:-0400
TZOFFSETTO:-0500
TZNAME:EST
DTSTART:20231105T060000
END:STANDARD
BEGIN:DAYLIGHT
TZOFFSETFROM:-0500
TZOFFSETTO:-0400
TZNAME:EDT
DTSTART:20240310T070000
END:DAYLIGHT
BEGIN:STANDARD
TZOFFSETFROM:-0400
TZOFFSETTO:-0500
TZNAME:EST
DTSTART:20241103T060000
END:STANDARD
BEGIN:DAYLIGHT
TZOFFSETFROM:-0500
TZOFFSETTO:-0400
TZNAME:EDT
DTSTART:20250309T070000
END:DAYLIGHT
BEGIN:STANDARD
TZOFFSETFROM:-0400
TZOFFSETTO:-0500
TZNAME:EST
DTSTART:20251102T060000
END:STANDARD
END:VTIMEZONE
BEGIN:VEVENT
DTSTART;TZID=America/Toronto:20240925T173000
DTEND;TZID=America/Toronto:20240925T200000
DTSTAMP:20260422T212549
CREATED:20240801T135506Z
LAST-MODIFIED:20240910T144256Z
UID:3080-1727285400-1727294400@lacgl.org
SUMMARY:Cocktail de la rentrée et assemblée générale annuelle
DESCRIPTION:Cocktail de la rentrée et assemblée générale annuelle \nLe CA de l’ACGL vous prépare une belle rentrée et un programme captivant pour la saison 2024-2025. Venez découvrir les activités à venir dans une ambiance décontractée à la brasserie Le Molière. Le cocktail sera suivi de notre assemblée générale annuelle. Réservez votre place sur Eventbrite (lien dans la section Site ci-dessous).
URL:https://lacgl.org/evenement/cocktail-de-la-rentree-et-assemblee-generale-annuelle/
LOCATION:Le Molière brasserie française\, 1560 Rue Saint-Denis\, Montréal\, Québec\, H2X 3K3\, Canada
CATEGORIES:5 à 7,Assemblée générale
ATTACH;FMTTYPE=image/jpeg:https://lacgl.org/wp-content/uploads/2024/08/5-a-7.jpg
END:VEVENT
END:VCALENDAR