BEGIN:VCALENDAR
VERSION:2.0
PRODID:-//ACGL - Association des conseils en gestion linguistique - ECPv6.15.20//NONSGML v1.0//EN
CALSCALE:GREGORIAN
METHOD:PUBLISH
X-ORIGINAL-URL:https://lacgl.org
X-WR-CALDESC:Évènements pour ACGL - Association des conseils en gestion linguistique
REFRESH-INTERVAL;VALUE=DURATION:PT1H
X-Robots-Tag:noindex
X-PUBLISHED-TTL:PT1H
BEGIN:VTIMEZONE
TZID:America/Toronto
BEGIN:DAYLIGHT
TZOFFSETFROM:-0500
TZOFFSETTO:-0400
TZNAME:EDT
DTSTART:20250309T070000
END:DAYLIGHT
BEGIN:STANDARD
TZOFFSETFROM:-0400
TZOFFSETTO:-0500
TZNAME:EST
DTSTART:20251102T060000
END:STANDARD
BEGIN:DAYLIGHT
TZOFFSETFROM:-0500
TZOFFSETTO:-0400
TZNAME:EDT
DTSTART:20260308T070000
END:DAYLIGHT
BEGIN:STANDARD
TZOFFSETFROM:-0400
TZOFFSETTO:-0500
TZNAME:EST
DTSTART:20261101T060000
END:STANDARD
BEGIN:DAYLIGHT
TZOFFSETFROM:-0500
TZOFFSETTO:-0400
TZNAME:EDT
DTSTART:20270314T070000
END:DAYLIGHT
BEGIN:STANDARD
TZOFFSETFROM:-0400
TZOFFSETTO:-0500
TZNAME:EST
DTSTART:20271107T060000
END:STANDARD
END:VTIMEZONE
BEGIN:VEVENT
DTSTART;TZID=America/Toronto:20260512T083000
DTEND;TZID=America/Toronto:20260512T103000
DTSTAMP:20260421T072856
CREATED:20260409T125638Z
LAST-MODIFIED:20260409T125638Z
UID:3506-1778574600-1778581800@lacgl.org
SUMMARY:La gestion intermédiaire : défis et solutions concrètes
DESCRIPTION:L’ACGL\, en collaboration avec Fasken\, est heureuse de vous présenter une conférence sur la gestion intermédiaire avec Stéphane Boulay\, auteur du livre L’Art du milieu : diriger avec clarté\, courage et bienveillance entre direction et terrain. Dans cet ouvrage\, il propose une approche concrète et humaine du mid-management\, nourrie par la réalité des équipes hybrides\, l’éthique managériale\, l’intelligence émotionnelle et l’apport des outils modernes. Il y partage des repères\, des méthodes testées et des exemples applicables pour aider les gestionnaires à mieux décider\, mieux communiquer et mieux se protéger. Il fera de nombreux parallèles entre son expérience en marketing et le monde de la traduction. \nStéphane Boulay est un leader et stratège marketing québécois qui cumule plus de vingt-cinq ans d’expérience comme cadre intermédiaire et direction générale dans les secteurs des biens de consommation\, des médias\, du tourisme et du plein air. Il a notamment œuvré sept ans chez le plus grand brasseur mondial\, AB InBev au Canada\, puis près de quinze ans chez Bell Média\, leader des communications au pays. Au fil des ans\, Il a dirigé des centaines de personnes au sein d’équipes multidisciplinaires : création\, marketing\, média\, stratégie et production. Et il a assumé\, avec ses équipes de l’Agence Bell Média\, la gestion complète des marques de l’entreprise pour le marché francophone canadien. \nThé\, café et viennoiseries seront servis avant la présentation. Inscrivez-vous sans tarder\, car les places sont limitées! \nUn grand merci à Fasken de nous accueillir!
URL:https://lacgl.org/evenement/la-gestion-intermediaire-defis-et-solutions-concretes/
LOCATION:Fasken\, 800 Rue du Square-Victoria #Bureau 3500\, Montréal\, QC\, H4Z 1E9
END:VEVENT
END:VCALENDAR